BEGIN:VCALENDAR
VERSION:2.0
PRODID:-//Food Matters Media - ECPv6.15.20//NONSGML v1.0//EN
CALSCALE:GREGORIAN
METHOD:PUBLISH
X-WR-CALNAME:Food Matters Media
X-ORIGINAL-URL:https://foodmattersmedia.com
X-WR-CALDESC:Events for Food Matters Media
REFRESH-INTERVAL;VALUE=DURATION:PT1H
X-Robots-Tag:noindex
X-PUBLISHED-TTL:PT1H
BEGIN:VTIMEZONE
TZID:America/Denver
BEGIN:DAYLIGHT
TZOFFSETFROM:-0700
TZOFFSETTO:-0600
TZNAME:MDT
DTSTART:20250309T090000
END:DAYLIGHT
BEGIN:STANDARD
TZOFFSETFROM:-0600
TZOFFSETTO:-0700
TZNAME:MST
DTSTART:20251102T080000
END:STANDARD
BEGIN:DAYLIGHT
TZOFFSETFROM:-0700
TZOFFSETTO:-0600
TZNAME:MDT
DTSTART:20260308T090000
END:DAYLIGHT
BEGIN:STANDARD
TZOFFSETFROM:-0600
TZOFFSETTO:-0700
TZNAME:MST
DTSTART:20261101T080000
END:STANDARD
BEGIN:DAYLIGHT
TZOFFSETFROM:-0700
TZOFFSETTO:-0600
TZNAME:MDT
DTSTART:20270314T090000
END:DAYLIGHT
BEGIN:STANDARD
TZOFFSETFROM:-0600
TZOFFSETTO:-0700
TZNAME:MST
DTSTART:20271107T080000
END:STANDARD
END:VTIMEZONE
BEGIN:VEVENT
DTSTART;TZID=America/Denver:20260328T120000
DTEND;TZID=America/Denver:20260328T150000
DTSTAMP:20260419T075047
CREATED:20260308T175615Z
LAST-MODIFIED:20260308T180832Z
UID:10000006-1774699200-1774710000@foodmattersmedia.com
SUMMARY:No Kings 3.0
DESCRIPTION:On Saturday\, March 28\, Food Matters Media stands again in Boston and with Americans across the country to say “No Kings!”–and Fuck ICE! As we watch our democracy continue to crumble under the current administration and its MAGA cult\, with science and public health on the chopping block\, we must step up\, speak out\, and fight together for what is right. Find an event near you and rise up with me against tyranny\, fascism\, and oligarchy.
URL:https://foodmattersmedia.com/event/no-kings-3-0/
ATTACH;FMTTYPE=image/png:https://foodmattersmedia.com/wp-content/uploads/2026/03/NK3_16x9-2.png
END:VEVENT
END:VCALENDAR